BEGIN:VCALENDAR
VERSION:2.0
PRODID:-//Malaysian Australian Alumni Council - ECPv6.0.5//NONSGML v1.0//EN
CALSCALE:GREGORIAN
METHOD:PUBLISH
X-WR-CALNAME:Malaysian Australian Alumni Council
X-ORIGINAL-URL:https://www.emaac.org
X-WR-CALDESC:Events for Malaysian Australian Alumni Council
REFRESH-INTERVAL;VALUE=DURATION:PT1H
X-Robots-Tag:noindex
X-PUBLISHED-TTL:PT1H
BEGIN:VTIMEZONE
TZID:Asia/Shanghai
BEGIN:STANDARD
TZOFFSETFROM:+0800
TZOFFSETTO:+0800
TZNAME:CST
DTSTART:20140101T000000
END:STANDARD
END:VTIMEZONE
BEGIN:VEVENT
DTSTART;TZID=Asia/Shanghai:20141204T190000
DTEND;TZID=Asia/Shanghai:20141204T233000
DTSTAMP:20260421T195633
CREATED:20220120T140551Z
LAST-MODIFIED:20221122T130406Z
UID:10000069-1417719600-1417735800@www.emaac.org
SUMMARY:The MAAC 5th Annual Australian Alumni Gala Dinner 2014
DESCRIPTION:EVENT DESCRIPTIONDress code: Formal \nTickets:\nRM 210.00 per pax OR AUD 70.00 per pax (early bird before 20th November 2014)\nRM 240.00 per pax OR AUD 80.00 per pax (normal price after 20th November 2014) \nThis event of the year is back with four (4) award to be presented to successful Australian graduates and we have prepared a performance which feature songs from The Phantom of the Opera. \nPlease contact Adrian Ong at adrian.ong@emaac.org on how to get your tickets now. You can download your flyer and RSVP form here. Looking forward to meet you soon at the dinner! \nEVENT GALLERY
URL:https://www.emaac.org/event/the-maac-5th-annual-australian-alumni-gala-dinner-2014/
LOCATION:Mayang Sari Grand Ballroom\, The JW Marriott Hotel\, Jalan Bukit Bintang\, KL
CATEGORIES:Year 2014
ATTACH;FMTTYPE=image/jpeg:https://www.emaac.org/wp-content/uploads/2022/01/MAAC1411_GalaBackdrop_R01_HROL-v3-666x382-1.jpg
END:VEVENT
BEGIN:VEVENT
DTSTART;TZID=Asia/Shanghai:20141012T070000
DTEND;TZID=Asia/Shanghai:20141012T160000
DTSTAMP:20260421T195636
CREATED:20220120T103430Z
LAST-MODIFIED:20220120T103430Z
UID:10000068-1413097200-1413129600@www.emaac.org
SUMMARY:Aussie Adventure Race
DESCRIPTION:EVENT DESCRIPTIONAussie Adventure Race – Jointly organised by AISM\, MABC\, MAAC\, MANZA and MNZCC \nAre you looking for a little “adventure” in your life?\nJoin the Australian International School’s ADVENTURE RACE and do your bit for charity too! \nYou do not need to be a treasure hunt-PRO to join this race.\nAll you need is some good teamwork\, resourcefulness and a little creativity\, which will bring you a long way.\nWho knows\, you might be able to walk away with the Grand Prize of RM 2\,000 Cash! \nNo preparation is needed as well – pre-event briefings will be provided to all participants. \nProceeds from this race will be donated to Australian International School’s Matilda Project – aimed at helping 30 rural children in Asrama Desa Pukak\, Sabah access primary education. \nMore information about the Matilda project is available at http://www.aism.edu.my/life_at_aism_details.cfm?id=11 \nDetails of the race as follows: \n\n\n\nDate\n:\n12th October 2014 (Sunday)\n\n\nTime\n:\n7.00 am to 4.00 pm\n\n\nRegistration fees\n:\nRM 200.00 per car (2 to 4 persons)\n\n\nStart/Finish\n:\nAustralian International School Malaysia\n22\, Jalan Anggerik\, The MINES Resort City\, Seri Kembangan\, Selangor.\n\n\nAttire\n:\nCome dressed in Australian Colours (Green and Gold)\n\n\n\nGet together your friends\, family or colleagues and submit the entry form which can be downloaded here in by 26th September\, 2014! \nEmail/fax the entry forms to events@aism.edu.my / Fax: +603-8949 5100 or call +603-8949 5000 for more information. \nEVENT GALLERY
URL:https://www.emaac.org/event/aussie-adventure-race/
LOCATION:Australian International School Malaysia\, 22\, Jalan Anggerik\, The MINES Resort City\, Seri Kembangan\, Selangor.
CATEGORIES:Year 2014
ATTACH;FMTTYPE=image/jpeg:https://www.emaac.org/wp-content/uploads/2022/01/AISM-Adventure-Race-2.jpg
END:VEVENT
BEGIN:VEVENT
DTSTART;TZID=Asia/Shanghai:20140809T090000
DTEND;TZID=Asia/Shanghai:20140809T113000
DTSTAMP:20260421T195636
CREATED:20220119T101226Z
LAST-MODIFIED:20220119T101226Z
UID:10000067-1407574800-1407583800@www.emaac.org
SUMMARY:The MAAC 14th Annual Go-Kart Challenge 2014
DESCRIPTION:EVENT DESCRIPTION\nRace Format : One Hour Endurance Race\nFee : RM 360.00 per team of 4 people (must have at least 2 Australian graduates in each team) \nClick here for more info \n\nEVENT GALLERY
URL:https://www.emaac.org/event/the-maac-14th-annual-go-kart-challenge-2014/
LOCATION:Sepang International Circuit (Sepang F1 Circuit)
CATEGORIES:Year 2014
END:VEVENT
BEGIN:VEVENT
DTSTART;TZID=Asia/Shanghai:20140412T200000
DTEND;TZID=Asia/Shanghai:20140412T214500
DTSTAMP:20260421T195638
CREATED:20220119T075026Z
LAST-MODIFIED:20220119T075026Z
UID:10000020-1397332800-1397339100@www.emaac.org
SUMMARY:UNSW presents 'Emily of Emerald Hill'
DESCRIPTION:EVENT DESCRIPTIONUniversity of New South Wales Alumni is organizing a special play with the sole purpose of getting all Australian graduates to gather and rekindle ties with other Australian University alumni while enjoying this wonderful performance. As this is a non profit event\, the ticket price is only intended to cover the costs of the play. \nPerformance: “Emily of Emerald Hill” \nDate: April 12th\, Saturday evening \nPre performance reception: 7.00pm – 7.40pm \nTime: 8.00pm – 9.45pm \nPost performance reception: 9.45pm – 11.00pm (Production team will join us) \nTickets available: 200 numbered seats \nPrice: RM 85.00 per person \nFor further information and ticket purchase\, please contact: eventsunswmalaysia@yahoo.com or Jasmine at +6 03-7809 8010\, Mon-Fri\, 9am – 5pm \nAdditionally\, we will be serving food and drinks during the reception – ticket includes light halal Nyonya food and drinks – soda\, tea and coffee and Australian wines!! \nAbout the Play \nIt is a critically-acclaimed\, longest-running play locally which has been staged around the world. This play focusses on a Peranakan family in the early 20th century\, living in Emerald Hill\, Singapore. It is heralded as a true gem in local arts history\, giving a concise sociological insight into the fading nyonya-baba culture. \nPearly Chua\, who has played the role more than 160 times\, is undoubtedly unforgettable in her element as Emily. Her performance has been described as “Brilliant. Simply brilliant. A stunning tour de force from start to finish.” by Mark Sheridan\, an Australian critic in 2012. \nEVENT GALLERY
URL:https://www.emaac.org/event/unsw-presents-emily-of-emerald-hill/
LOCATION:Damansara Perdana Performing Arts Center\, Kuala Lumpur
CATEGORIES:Year 2014
END:VEVENT
END:VCALENDAR