BEGIN:VCALENDAR
VERSION:2.0
PRODID:-//Malaysian Australian Alumni Council - ECPv6.0.5//NONSGML v1.0//EN
CALSCALE:GREGORIAN
METHOD:PUBLISH
X-ORIGINAL-URL:https://www.emaac.org
X-WR-CALDESC:Events for Malaysian Australian Alumni Council
REFRESH-INTERVAL;VALUE=DURATION:PT1H
X-Robots-Tag:noindex
X-PUBLISHED-TTL:PT1H
BEGIN:VTIMEZONE
TZID:Asia/Shanghai
BEGIN:STANDARD
TZOFFSETFROM:+0800
TZOFFSETTO:+0800
TZNAME:CST
DTSTART:20250101T000000
END:STANDARD
END:VTIMEZONE
BEGIN:VEVENT
DTSTART;TZID=Asia/Shanghai:20250823T130000
DTEND;TZID=Asia/Shanghai:20250823T170000
DTSTAMP:20260422T055441
CREATED:20250502T034937Z
LAST-MODIFIED:20250509T053414Z
UID:10000112-1755954000-1755968400@www.emaac.org
SUMMARY:The Australian Alumni Open Day 2025
DESCRIPTION:EVENT DESCRIPTIONThe Australian Alumni Open Day 2025 is an exclusive networking event designed to bring together Australian graduates residing in Malaysia. This gathering caters to a diverse audience\, including fresh graduates\, mid-level professionals\, entrepreneurs\, and industry leaders. \nThe inaugural theme for 2025\, “Self-Empowerment\,” will be central to the event’s inspiring keynote speeches and interactive sessions. A highlight of the day will be the sharing sessions by the winners of the 2024 Alumni Awards\, who will discuss their journeys and achievements. \nThis dynamic gathering offers sponsors a unique opportunity to engage and network with influential decision-makers\, entrepreneurs\, managers and potential future hires! \nEvent Highlights \n\nDistinguished Alumni Sharing & Panel Discussion\nUp-close and Personal Sessions with 2024 Australian Alumni Award Winners\nAlumni Connect: Reuniting alumni with their university chapters and associations\, with support to reignite and reform their alumni communities\nNetworking Opportunities with the alumni community\n\nEVENT GALLERY
URL:https://www.emaac.org/event/the-australian-alumni-open-day-2025/
LOCATION:KL Wellness City Gallery\, 1\, Jalan Bukit Jalil Indah 5\, Bukit Jalil\, 57000 Kuala Lumpur\, Wilayah Persekutuan Kuala Lumpur\, Kuala Lumpur\, 57000
CATEGORIES:Year 2025
ATTACH;FMTTYPE=image/jpeg:https://www.emaac.org/wp-content/uploads/2025/05/australia-alumni-open-day-2025-featured-1b.jpg
END:VEVENT
BEGIN:VEVENT
DTSTART;TZID=Asia/Shanghai:20251106T090000
DTEND;TZID=Asia/Shanghai:20251106T170000
DTSTAMP:20260422T055441
CREATED:20250926T040931Z
LAST-MODIFIED:20250926T053803Z
UID:10000114-1762419600-1762448400@www.emaac.org
SUMMARY:CPA Congress 2025
DESCRIPTION:EVENT DESCRIPTIONJoin a global movement of impact leaders at CPA Congress 2025. Choose from two in-person locations – the Gold Coast\, Australia and Kuala Lumpur\, Malaysia – or participate virtually live and OnDemand. Prepare for impact in your career with the skills\, insights and connections to confidently chart your professional path. Learn how to align Purpose\, Partnership and Impact to meet rising standards\, embed ethical decision-making\, and harness innovation for lasting\, sustainable outcomes. \nChart your path. The future is here. \nEVENT GALLERY
URL:https://www.emaac.org/event/cpa-congress-2025/
LOCATION:Mandarin Oriental\, Kuala Lumpur City Centre
CATEGORIES:Year 2025
ATTACH;FMTTYPE=image/jpeg:https://www.emaac.org/wp-content/uploads/2025/09/cpa-congress-2025-featured.jpg
END:VEVENT
END:VCALENDAR