BEGIN:VCALENDAR
VERSION:2.0
PRODID:-//Malaysian Australian Alumni Council - ECPv6.0.5//NONSGML v1.0//EN
CALSCALE:GREGORIAN
METHOD:PUBLISH
X-WR-CALNAME:Malaysian Australian Alumni Council
X-ORIGINAL-URL:https://www.emaac.org
X-WR-CALDESC:Events for Malaysian Australian Alumni Council
REFRESH-INTERVAL;VALUE=DURATION:PT1H
X-Robots-Tag:noindex
X-PUBLISHED-TTL:PT1H
BEGIN:VTIMEZONE
TZID:Asia/Shanghai
BEGIN:STANDARD
TZOFFSETFROM:+0800
TZOFFSETTO:+0800
TZNAME:CST
DTSTART:20080101T000000
END:STANDARD
END:VTIMEZONE
BEGIN:VEVENT
DTSTART;TZID=Asia/Shanghai:20081022T190000
DTEND;TZID=Asia/Shanghai:20081022T210000
DTSTAMP:20260422T093702
CREATED:20220222T071217Z
LAST-MODIFIED:20220222T071217Z
UID:10000084-1224702000-1224709200@www.emaac.org
SUMMARY:4th Alumni Presidents Dinner
DESCRIPTION:EVENT DESCRIPTIONTopics for discussion: \n– Part-time secretariat position\n– The Year-End Celebration in mid December\n– The KK Golf event in January 2009 \nEVENT GALLERY
URL:https://www.emaac.org/event/4th-alumni-presidents-dinner/
LOCATION:Delicious @ The Marc & Dua Residency (near KLCC)
CATEGORIES:Year 2008
END:VEVENT
BEGIN:VEVENT
DTSTART;TZID=Asia/Shanghai:20081019T120000
DTEND;TZID=Asia/Shanghai:20081019T180000
DTSTAMP:20260422T093702
CREATED:20220222T071032Z
LAST-MODIFIED:20220222T071032Z
UID:10000083-1224417600-1224439200@www.emaac.org
SUMMARY:Study In Australia Education Fair
DESCRIPTION:EVENT DESCRIPTIONFor more info\, please visit\nwww.studyinaustralia.org \nEVENT GALLERY
URL:https://www.emaac.org/event/study-in-australia-education-fair/
LOCATION:Conference Hall 1\,2\,3 Level 3\, KL Convention Centre
CATEGORIES:Year 2008
END:VEVENT
BEGIN:VEVENT
DTSTART;TZID=Asia/Shanghai:20080925T183000
DTEND;TZID=Asia/Shanghai:20080925T203000
DTSTAMP:20260422T093702
CREATED:20220222T070718Z
LAST-MODIFIED:20220222T070718Z
UID:10000082-1222367400-1222374600@www.emaac.org
SUMMARY:MABC-MCBC Networking Evening
DESCRIPTION:EVENT DESCRIPTIONCost: RM60 (member) / RM70 (non member)\nFree flow of beer\, wine\, soft drinks and\njuices for two hours. Food and light\nsnacks will be hosted by The Westin\nKuala Lumpur. \nPlease confirm your attendance with\nMargaret Khoo at MABC Secretariat\,\nTel 03-7960 9490 or email mabc@mabc.org.my \nEVENT GALLERY
URL:https://www.emaac.org/event/mabc-mcbc-networking-evening/
LOCATION:Splash (poolside restaurant)\, Level 4\, The Westin KL
CATEGORIES:Year 2008
END:VEVENT
BEGIN:VEVENT
DTSTART;TZID=Asia/Shanghai:20080902T090000
DTEND;TZID=Asia/Shanghai:20080902T130000
DTSTAMP:20260422T093702
CREATED:20220222T070057Z
LAST-MODIFIED:20220222T070057Z
UID:10000081-1220346000-1220360400@www.emaac.org
SUMMARY:2008 MAAC Go-Kart Challenge
DESCRIPTION:EVENT DESCRIPTIONFormat : One Hour Endurance Race\,\n4 persons per team\, each team must\nconsist of at least 2 alumni / Australian\ngraduates in order to qualify as Alumni team \nFees :\na) RM 320 / team (alumni team);\nRM 80per person\nb) RM 380 / team (non-alumni team)\nRM 95 per person \nEVENT GALLERY
URL:https://www.emaac.org/event/2008-maac-go-kart-challenge/
LOCATION:City Karting (Malaysia) Shah Alam Track (next to Shah Alam Stadium)
CATEGORIES:Year 2008
END:VEVENT
END:VCALENDAR